{
 "currentVersion": 10.91,
 "serviceDescription": "Imagery/Imagery2023Airport",
 "name": "Imagery/Imagery2023Airport",
 "description": "",
 "extent": {
  "xmin": 2337575.9039528817,
  "ymin": 1178334.941879645,
  "xmax": 2348835.937863216,
  "ymax": 1192735.0190505534,
  "spatialReference": {
   "wkid": 102655,
   "latestWkid": 2233
  }
 },
 "initialExtent": {
  "xmin": 2337575.9039528817,
  "ymin": 1178334.941879645,
  "xmax": 2348835.937863216,
  "ymax": 1192735.0190505534,
  "spatialReference": {
   "wkid": 102655,
   "latestWkid": 2233
  }
 },
 "fullExtent": {
  "xmin": 2337575.9039528817,
  "ymin": 1178334.941879645,
  "xmax": 2348835.937863216,
  "ymax": 1192735.0190505534,
  "spatialReference": {
   "wkid": 102655,
   "latestWkid": 2233
  }
 },
 "hasMultidimensions": false,
 "pixelSizeX": 0.7499689563296996,
 "pixelSizeY": 0.7499649586432191,
 "datasetFormat": "FGDBR",
 "uncompressedSize": 864851442,
 "blockWidth": 128,
 "blockHeight": 128,
 "compressionType": "LZ77",
 "bandNames": [
  "Band_1",
  "Band_2",
  "Band_3"
 ],
 "allowCopy": true,
 "allowAnalysis": true,
 "bandCount": 3,
 "pixelType": "U8",
 "minPixelSize": 0,
 "maxPixelSize": 0,
 "copyrightText": "",
 "serviceDataType": "esriImageServiceDataTypeProcessed",
 "serviceSourceType": "esriImageServiceSourceTypeDataset",
 "minValues": [
  0,
  0,
  0
 ],
 "maxValues": [
  255,
  255,
  255
 ],
 "meanValues": [
  151.45826457318063,
  133.66147954155565,
  91.162318408331
 ],
 "stdvValues": [
  33.52391118980367,
  31.594147715624576,
  31.041330956360138
 ],
 "objectIdField": "",
 "fields": [],
 "capabilities": "Image,Metadata,Mensuration",
 "defaultMosaicMethod": "Center",
 "allowedMosaicMethods": "",
 "sortField": "",
 "sortValue": null,
 "sortAscending": true,
 "mosaicOperator": "First",
 "defaultCompressionQuality": 75,
 "defaultResamplingMethod": "Bilinear",
 "maxImageHeight": 4100,
 "maxImageWidth": 15000,
 "allowRasterFunction": true,
 "rasterFunctionInfos": [
  {
   "name": "None",
   "description": "",
   "help": ""
  }
 ],
 "rasterTypeInfos": [
  {
   "name": "Raster Dataset",
   "description": "Supports all ArcGIS Raster Datasets",
   "help": ""
  }
 ],
 "mensurationCapabilities": "Basic",
 "hasHistograms": true,
 "hasColormap": false,
 "hasRasterAttributeTable": false,
 "minScale": 0,
 "maxScale": 0,
 "exportTilesAllowed": false,
 "supportsStatistics": false,
 "supportsAdvancedQueries": false,
 "editFieldsInfo": null,
 "ownershipBasedAccessControlForRasters": null,
 "allowComputeTiePoints": false,
 "useStandardizedQueries": true,
 "advancedQueryCapabilities": {
  "useStandardizedQueries": true,
  "supportsStatistics": false,
  "supportsOrderBy": false,
  "supportsDistinct": false,
  "supportsPagination": false
 },
 "spatialReference": {
  "wkid": 102655,
  "latestWkid": 2233
 }
}
