{
 "currentVersion": 10.91,
 "serviceDescription": "Imagery/Imagery2023Pro",
 "name": "Imagery/Imagery2023Pro",
 "description": "",
 "extent": {
  "xmin": 2285976.1574150473,
  "ymin": 1193808.0267470628,
  "xmax": 2346695.9388623834,
  "ymax": 1267727.8956393152,
  "spatialReference": {
   "wkid": 102655,
   "latestWkid": 2233
  }
 },
 "initialExtent": {
  "xmin": 2285976.1574150473,
  "ymin": 1193808.0267470628,
  "xmax": 2346695.9388623834,
  "ymax": 1267727.8956393152,
  "spatialReference": {
   "wkid": 102655,
   "latestWkid": 2233
  }
 },
 "fullExtent": {
  "xmin": 2285976.1574150473,
  "ymin": 1193808.0267470628,
  "xmax": 2346695.9388623834,
  "ymax": 1267727.8956393152,
  "spatialReference": {
   "wkid": 102655,
   "latestWkid": 2233
  }
 },
 "hasMultidimensions": false,
 "pixelSizeX": 0.24999910016195684,
 "pixelSizeY": 0.24999955658905723,
 "datasetFormat": "FGDBR",
 "uncompressedSize": 215444275200,
 "blockWidth": 128,
 "blockHeight": 128,
 "compressionType": "LZ77",
 "bandNames": [
  "Band_1",
  "Band_2",
  "Band_3"
 ],
 "allowCopy": true,
 "allowAnalysis": true,
 "bandCount": 3,
 "pixelType": "U8",
 "minPixelSize": 0,
 "maxPixelSize": 0,
 "copyrightText": "",
 "serviceDataType": "esriImageServiceDataTypeRGB",
 "serviceSourceType": "esriImageServiceSourceTypeDataset",
 "minValues": [
  0,
  0,
  0
 ],
 "maxValues": [
  255,
  255,
  255
 ],
 "meanValues": [
  127.97161043743593,
  118.9945355022603,
  83.6050387816496
 ],
 "stdvValues": [
  48.23934717527332,
  44.83832679688025,
  42.02804615639184
 ],
 "objectIdField": "",
 "fields": [],
 "capabilities": "Image,Metadata,Mensuration",
 "defaultMosaicMethod": "Center",
 "allowedMosaicMethods": "",
 "sortField": "",
 "sortValue": null,
 "sortAscending": true,
 "mosaicOperator": "First",
 "defaultCompressionQuality": 75,
 "defaultResamplingMethod": "Bilinear",
 "maxImageHeight": 4100,
 "maxImageWidth": 15000,
 "allowRasterFunction": true,
 "rasterFunctionInfos": [
  {
   "name": "None",
   "description": "",
   "help": ""
  }
 ],
 "rasterTypeInfos": [
  {
   "name": "Raster Dataset",
   "description": "Supports all ArcGIS Raster Datasets",
   "help": ""
  }
 ],
 "mensurationCapabilities": "Basic",
 "hasHistograms": true,
 "hasColormap": false,
 "hasRasterAttributeTable": false,
 "minScale": 0,
 "maxScale": 0,
 "exportTilesAllowed": false,
 "supportsStatistics": false,
 "supportsAdvancedQueries": false,
 "editFieldsInfo": null,
 "ownershipBasedAccessControlForRasters": null,
 "allowComputeTiePoints": false,
 "useStandardizedQueries": true,
 "advancedQueryCapabilities": {
  "useStandardizedQueries": true,
  "supportsStatistics": false,
  "supportsOrderBy": false,
  "supportsDistinct": false,
  "supportsPagination": false
 },
 "spatialReference": {
  "wkid": 102655,
  "latestWkid": 2233
 }
}
