View In:
ArcGIS JavaScript
ArcGIS Online Map Viewer
ArcGIS Earth
ArcMap
View Footprint In:
ArcGIS Online Map Viewer
Service Description: DurangoMapping/Imagery2019
Name: DurangoMapping/Imagery2019
Description:
Single Fused Map Cache: false
Extent:
XMin: 2286306.5
YMin: 1195961.5
XMax: 2340893.5
YMax: 1255083.25
Spatial Reference: 102655
(2233)
Initial Extent:
XMin: 2286306.5
YMin: 1195961.5
XMax: 2340893.5
YMax: 1255083.25
Spatial Reference: 102655
(2233)
Full Extent:
XMin: 2286306.5
YMin: 1195961.5
XMax: 2340893.5
YMax: 1255083.25
Spatial Reference: 102655
(2233)
Pixel Size X: 0.25
Pixel Size Y: 0.25
Band Count: 3
Pixel Type: U8
RasterFunction Infos: {"rasterFunctionInfos": [{
"name": "None",
"description": "",
"help": ""
}]}
Mensuration Capabilities: Basic
Has Histograms: true
Has Colormap: false
Has Multi Dimensions : false
Rendering Rule:
Min Scale: 0
Max Scale: 0
Copyright Text:
Service Data Type: esriImageServiceDataTypeRGB
Min Values: 0, 0, 0
Max Values: 255, 255, 253
Mean Values: 122.6917287810739, 120.00501886045163, 103.05281904478045
Standard Deviation Values: 54.9134786040978, 50.12901223414873, 42.53827276496365
Object ID Field:
Fields:
None
Default Mosaic Method: Center
Allowed Mosaic Methods:
SortField:
SortValue: null
Mosaic Operator: First
Default Compression Quality: 75
Default Resampling Method: Bilinear
Max Record Count: null
Max Image Height: 4100
Max Image Width: 15000
Max Download Image Count: null
Max Mosaic Image Count: null
Allow Raster Function: true
Allow Copy: null
Allow Analysis: null
Allow Compute TiePoints: false
Supports Statistics: false
Supports Advanced Queries: false
Use StandardizedQueries: true
Raster Type Infos:
Name: Raster Dataset
Description: Supports all ArcGIS Raster Datasets
Help:
Has Raster Attribute Table: false
Edit Fields Info: null
Ownership Based AccessControl For Rasters: null
Child Resources:
Info
Histograms
Key Properties
Legend
Raster Function Infos
Supported Operations:
Export Image
Identify
Measure
Compute Histograms
Compute Statistics Histograms
Get Samples
Compute Class Statistics
Query Boundary
Compute Pixel Location
Compute Angles
Validate
Project