View In:
ArcGIS JavaScript
ArcGIS Online Map Viewer
ArcGIS Earth
ArcMap
View Footprint In:
ArcGIS Online Map Viewer
Service Description: Imagery/Imagery2023Airport
Name: Imagery/Imagery2023Airport
Description:
Single Fused Map Cache: false
Extent:
XMin: 2337575.9039528817
YMin: 1178334.941879645
XMax: 2348835.937863216
YMax: 1192735.0190505534
Spatial Reference: 102655
(2233)
Initial Extent:
XMin: 2337575.9039528817
YMin: 1178334.941879645
XMax: 2348835.937863216
YMax: 1192735.0190505534
Spatial Reference: 102655
(2233)
Full Extent:
XMin: 2337575.9039528817
YMin: 1178334.941879645
XMax: 2348835.937863216
YMax: 1192735.0190505534
Spatial Reference: 102655
(2233)
Pixel Size X: 0.7499689563296996
Pixel Size Y: 0.7499649586432191
Band Count: 3
Pixel Type: U8
RasterFunction Infos: {"rasterFunctionInfos": [{
"name": "None",
"description": "",
"help": ""
}]}
Mensuration Capabilities: Basic
Has Histograms: true
Has Colormap: false
Has Multi Dimensions : false
Rendering Rule:
Min Scale: 0
Max Scale: 0
Copyright Text:
Service Data Type: esriImageServiceDataTypeProcessed
Min Values: 0, 0, 0
Max Values: 255, 255, 255
Mean Values: 151.45826457318063, 133.66147954155565, 91.162318408331
Standard Deviation Values: 33.52391118980367, 31.594147715624576, 31.041330956360138
Object ID Field:
Fields:
None
Default Mosaic Method: Center
Allowed Mosaic Methods:
SortField:
SortValue: null
Mosaic Operator: First
Default Compression Quality: 75
Default Resampling Method: Bilinear
Max Record Count: null
Max Image Height: 4100
Max Image Width: 15000
Max Download Image Count: null
Max Mosaic Image Count: null
Allow Raster Function: true
Allow Copy: true
Allow Analysis: true
Allow Compute TiePoints: false
Supports Statistics: false
Supports Advanced Queries: false
Use StandardizedQueries: true
Raster Type Infos:
Name: Raster Dataset
Description: Supports all ArcGIS Raster Datasets
Help:
Has Raster Attribute Table: false
Edit Fields Info: null
Ownership Based AccessControl For Rasters: null
Child Resources:
Info
Histograms
Statistics
Key Properties
Legend
Raster Function Infos
Supported Operations:
Export Image
Identify
Measure
Compute Histograms
Compute Statistics Histograms
Get Samples
Compute Class Statistics
Query Boundary
Compute Pixel Location
Compute Angles
Validate
Project