View In:
ArcGIS JavaScript
ArcGIS Online Map Viewer
ArcGIS Earth
ArcMap
View Footprint In:
ArcGIS Online Map Viewer
Service Description: Imagery/Imagery2023Pro
Name: Imagery/Imagery2023Pro
Description:
Single Fused Map Cache: false
Extent:
XMin: 2285976.1574150473
YMin: 1193808.0267470628
XMax: 2346695.9388623834
YMax: 1267727.8956393152
Spatial Reference: 102655
(2233)
Initial Extent:
XMin: 2285976.1574150473
YMin: 1193808.0267470628
XMax: 2346695.9388623834
YMax: 1267727.8956393152
Spatial Reference: 102655
(2233)
Full Extent:
XMin: 2285976.1574150473
YMin: 1193808.0267470628
XMax: 2346695.9388623834
YMax: 1267727.8956393152
Spatial Reference: 102655
(2233)
Pixel Size X: 0.24999910016195684
Pixel Size Y: 0.24999955658905723
Band Count: 3
Pixel Type: U8
RasterFunction Infos: {"rasterFunctionInfos": [{
"name": "None",
"description": "",
"help": ""
}]}
Mensuration Capabilities: Basic
Has Histograms: true
Has Colormap: false
Has Multi Dimensions : false
Rendering Rule:
Min Scale: 0
Max Scale: 0
Copyright Text:
Service Data Type: esriImageServiceDataTypeRGB
Min Values: 0, 0, 0
Max Values: 255, 255, 255
Mean Values: 127.97161043743593, 118.9945355022603, 83.6050387816496
Standard Deviation Values: 48.23934717527332, 44.83832679688025, 42.02804615639184
Object ID Field:
Fields:
None
Default Mosaic Method: Center
Allowed Mosaic Methods:
SortField:
SortValue: null
Mosaic Operator: First
Default Compression Quality: 75
Default Resampling Method: Bilinear
Max Record Count: null
Max Image Height: 4100
Max Image Width: 15000
Max Download Image Count: null
Max Mosaic Image Count: null
Allow Raster Function: true
Allow Copy: true
Allow Analysis: true
Allow Compute TiePoints: false
Supports Statistics: false
Supports Advanced Queries: false
Use StandardizedQueries: true
Raster Type Infos:
Name: Raster Dataset
Description: Supports all ArcGIS Raster Datasets
Help:
Has Raster Attribute Table: false
Edit Fields Info: null
Ownership Based AccessControl For Rasters: null
Child Resources:
Info
Histograms
Statistics
Key Properties
Legend
Raster Function Infos
Supported Operations:
Export Image
Identify
Measure
Compute Histograms
Compute Statistics Histograms
Get Samples
Compute Class Statistics
Query Boundary
Compute Pixel Location
Compute Angles
Validate
Project